BEGIN:VCALENDAR
VERSION:2.0
PRODID:spatie/icalendar-generator
DESCRIPTION:Events from Ellis Marsalis Center for Music
X-WR-CALDESC:Events from Ellis Marsalis Center for Music
REFRESH-INTERVAL;VALUE=DURATION:PT1440M
X-PUBLISHED-TTL:PT1440M
BEGIN:VTIMEZONE
TZID:Etc/GMT+5
BEGIN:STANDARD
DTSTART:20250808T183000Z
TZOFFSETFROM:-0500
TZOFFSETTO:-0500
END:STANDARD
END:VTIMEZONE
BEGIN:VTIMEZONE
TZID:UTC
BEGIN:STANDARD
DTSTART:20250725T090850Z
TZOFFSETFROM:+0000
TZOFFSETTO:+0000
END:STANDARD
END:VTIMEZONE
BEGIN:VEVENT
UID:100-74
DTSTAMP:20260421T090850Z
SUMMARY:EMCM Presents: Ed Perkins (on GiveNOLA Day)
LOCATION:Ellis Marsalis Center for Music 1901 Bartholomew Street  New Orlea
 ns Louisiana 70117
ORGANIZER;CN=cloving:MAILTO:cloving@ellismarsaliscenter.org
DTSTART;TZID=Etc/GMT+5:20260505T183000
DTEND;TZID=Etc/GMT+5:20260505T200000
X-ALT-DESC;FMTTYPE=TEXT/HTML:Ed Perkins (on GiveNOLA Day) Tuesday\, May 5 |
  6:30 pm - 8:00 pm Tickets: $15 General Admission | $45 Reserved Seating 
  | $5 Student Tickets Concerts for All: Special discounted tickets are a
 vailable for senior citizens and New Orleans residents receiving SNAP bene
 fits. A valid benefits card and photo ID required to purchase discounted t
 ickets&amp;hellip\;
CATEGORIES:Live Events
URL;VALUE=URI:https://www.ellismarsaliscenter.org/mc-events/emcm-presents-e
 d-perkins-on-givenola-day/
METHOD:PUBLISH
END:VEVENT
END:VCALENDAR