BEGIN:VCALENDAR
VERSION:2.0
PRODID:spatie/icalendar-generator
DESCRIPTION:Events from Ellis Marsalis Center for Music
X-WR-CALDESC:Events from Ellis Marsalis Center for Music
REFRESH-INTERVAL;VALUE=DURATION:PT1440M
X-PUBLISHED-TTL:PT1440M
BEGIN:VTIMEZONE
TZID:Etc/GMT+5
BEGIN:STANDARD
DTSTART:20230210T183000Z
TZOFFSETFROM:-0500
TZOFFSETTO:-0500
END:STANDARD
END:VTIMEZONE
BEGIN:VTIMEZONE
TZID:UTC
BEGIN:STANDARD
DTSTART:20250728T082717Z
TZOFFSETFROM:+0000
TZOFFSETTO:+0000
END:STANDARD
END:VTIMEZONE
BEGIN:VEVENT
UID:15-6
DTSTAMP:20260424T082717Z
SUMMARY:Phillip Manuel &amp;amp\; Roderick Harper
LOCATION:
ORGANIZER;CN=ellismarsalis:MAILTO:marc@marcredmond.com
DTSTART;TZID=Etc/GMT+5:20231107T183000
DTEND;TZID=Etc/GMT+5:20231107T200000
X-ALT-DESC;FMTTYPE=TEXT/HTML:Join us for an evening with vocalists\, Philli
 p Manuel and Roderick Harper! Roderick Harper ‘Evolving’ is more than 
 just the title of Roderick Harper’s exceptional new record\; it’s his 
 entire way of life. Recorded live with a cast of friends and mentors (incl
 uding appearances from late piano legend Ellis Marsalis\, sax icon Donald 
 Harrison\, and&amp;hellip\;
CATEGORIES:General
URL;VALUE=URI:https://www.ellismarsaliscenter.org/mc-events/phillip-manuel-
 roderick-harper/
METHOD:PUBLISH
END:VEVENT
END:VCALENDAR